BEGIN:VCALENDAR
VERSION:2.0
PRODID:-//hacksw/handcal//NONSGML v1.0//EN
BEGIN:VEVENT
SUMMARY:Messieurs LGNA div2B - Perigueux
UID:bd7c2e30-e9ec-48ba-bf07-d60300568749
DTSTART:20260424T220000Z
DTEND:20260426T220000Z
LOCATION:Localisation   
CATEGORIES:Sportif
STATUS:
DESCRIPTION:<p>A Perigueux, notre equipe messieurs joue le
 championnat regional division 2B.</p>
 
 <p>Allez les saintais !</p>
URL;VALUE=URI:https://www.as-golfdesaintonge.com/evenements/2026/04/25/messieurs-lgna-div2b-perigueux-2444732
END:VEVENT
END:VCALENDAR
